BEGIN:VCALENDAR
VERSION:2.0
PRODID:-//Port-Jérôme-sur-Seine - ECPv6.15.12.2//NONSGML v1.0//EN
CALSCALE:GREGORIAN
METHOD:PUBLISH
X-ORIGINAL-URL:https://pj2s.fr
X-WR-CALDESC:Évènements pour Port-Jérôme-sur-Seine
REFRESH-INTERVAL;VALUE=DURATION:PT1H
X-Robots-Tag:noindex
X-PUBLISHED-TTL:PT1H
BEGIN:VTIMEZONE
TZID:Europe/Paris
BEGIN:DAYLIGHT
TZOFFSETFROM:+0100
TZOFFSETTO:+0200
TZNAME:CEST
DTSTART:20250330T010000
END:DAYLIGHT
BEGIN:STANDARD
TZOFFSETFROM:+0200
TZOFFSETTO:+0100
TZNAME:CET
DTSTART:20251026T010000
END:STANDARD
BEGIN:DAYLIGHT
TZOFFSETFROM:+0100
TZOFFSETTO:+0200
TZNAME:CEST
DTSTART:20260329T010000
END:DAYLIGHT
BEGIN:STANDARD
TZOFFSETFROM:+0200
TZOFFSETTO:+0100
TZNAME:CET
DTSTART:20261025T010000
END:STANDARD
BEGIN:DAYLIGHT
TZOFFSETFROM:+0100
TZOFFSETTO:+0200
TZNAME:CEST
DTSTART:20270328T010000
END:DAYLIGHT
BEGIN:STANDARD
TZOFFSETFROM:+0200
TZOFFSETTO:+0100
TZNAME:CET
DTSTART:20271031T010000
END:STANDARD
END:VTIMEZONE
BEGIN:VEVENT
DTSTART;TZID=Europe/Paris:20260505T203000
DTEND;TZID=Europe/Paris:20260505T220000
DTSTAMP:20260420T081320
CREATED:20250505T100038Z
LAST-MODIFIED:20260105T092326Z
UID:9106-1778013000-1778018400@pj2s.fr
SUMMARY:05/05 • Les Fo'Plafonds
DESCRIPTION:Concert \nTout public à partir de 6 ans \nUn spectacle musical et familial avec des tubes… 100% recyclés !\nBienvenue dans cette petite rue Eugène Poubelle ! Une rue d’apparence tout à fait normale ! Détrompez-vous car dans cette rue\, des choses peu communes se produisent ! Tendez l’oreille… vous entendez\, alors maintenant écoutez\, car ici tout est musique… Tout s’accorde\, tout se transforme. \nLa rue et ses éléments ont une seconde vie\, et même parfois plus ! Rien n’est jeté\, tout est récupéré et c’est ainsi que les « instrucs » sont créés. Laissez-vous porter par cet orchestre de brocante et son obsession de la récupération juste. Le bruit devient son\, le bruit devient note\, le bruit devient rythme. \nPrêtez attention\, laissez vos oreilles se perdre dans ce véritable fourbi musical et vos yeux se faire avoir par des sons trop souvent ignorés. Vous êtes prêts ? Alors n’hésitez plus\, entrez dans leur univers…
URL:https://pj2s.fr/event/05-05-les-foplafonds/
LOCATION:Les 3 Colombiers\, rue du président René Coty\, Port-Jérôme-sur-Seine\, 76330\, France
CATEGORIES:Spectacle
ATTACH;FMTTYPE=image/jpeg:https://pj2s.fr/wp-content/uploads/2025/06/MN5A4477.jpg
ORGANIZER;CN="3 Colombiers Th%C3%A9%C3%A2tre":MAILTO:resaspectacle.3colombiers@pj2s.fr
END:VEVENT
END:VCALENDAR