BEGIN:VCALENDAR
VERSION:2.0
PRODID:-//Port-Jérôme-sur-Seine - ECPv6.15.12.2//NONSGML v1.0//EN
CALSCALE:GREGORIAN
METHOD:PUBLISH
X-ORIGINAL-URL:https://pj2s.fr
X-WR-CALDESC:Évènements pour Port-Jérôme-sur-Seine
REFRESH-INTERVAL;VALUE=DURATION:PT1H
X-Robots-Tag:noindex
X-PUBLISHED-TTL:PT1H
BEGIN:VTIMEZONE
TZID:Europe/Paris
BEGIN:DAYLIGHT
TZOFFSETFROM:+0100
TZOFFSETTO:+0200
TZNAME:CEST
DTSTART:20250330T010000
END:DAYLIGHT
BEGIN:STANDARD
TZOFFSETFROM:+0200
TZOFFSETTO:+0100
TZNAME:CET
DTSTART:20251026T010000
END:STANDARD
BEGIN:DAYLIGHT
TZOFFSETFROM:+0100
TZOFFSETTO:+0200
TZNAME:CEST
DTSTART:20260329T010000
END:DAYLIGHT
BEGIN:STANDARD
TZOFFSETFROM:+0200
TZOFFSETTO:+0100
TZNAME:CET
DTSTART:20261025T010000
END:STANDARD
BEGIN:DAYLIGHT
TZOFFSETFROM:+0100
TZOFFSETTO:+0200
TZNAME:CEST
DTSTART:20270328T010000
END:DAYLIGHT
BEGIN:STANDARD
TZOFFSETFROM:+0200
TZOFFSETTO:+0100
TZNAME:CET
DTSTART:20271031T010000
END:STANDARD
END:VTIMEZONE
BEGIN:VEVENT
DTSTART;TZID=Europe/Paris:20260415T180000
DTEND;TZID=Europe/Paris:20260430T200000
DTSTAMP:20260420T072803
CREATED:20250430T100010Z
LAST-MODIFIED:20260415T133405Z
UID:11208-1776276000-1777579200@pj2s.fr
SUMMARY:30/04 • Captation du ballet Le songe d'une nuit d'été
DESCRIPTION:La Micro-Folie de Port-Jérôme-sur-Seine a le plaisir de vous proposer la diffusion de Le Songe d’une nuit d’été\, ballet adapté de l’œuvre de William Shakespeare. Une chorégraphie du célèbre George Balanchine\, sur une musique du compositeur Felix Mendelssohn-Bartholdy avec les étoiles\, premiers danseurs et le corps de ballet de l’Opéra de Paris. \nA venir découvrir le jeudi 30 avril de 18h à 20h. \nGratuit – Sur réservation \n\n\nPar télèphone : 06 45 24 09 56 ou par mail : microfolie@pj2s.fr \n\n\nMicro-Folie – Espace AGORA
URL:https://pj2s.fr/event/30-04-captation-du-ballet-le-songe-dune-nuit-dete/
LOCATION:Micro-Folie\, 3 rue du président René Coty\, Port-Jérôme-sur-Seine\, 76330\, France
CATEGORIES:Spectacle
ATTACH;FMTTYPE=application/pdf:https://pj2s.fr/wp-content/uploads/2026/04/Le-songe-dune-nuit-dete-2.pdf
ORGANIZER;CN="Micro-folie":MAILTO:microfolie@pj2s.fr
END:VEVENT
END:VCALENDAR